BEGIN:VCALENDAR
VERSION:2.0
PRODID:-//Plone.org//NONSGML plone.app.event//EN
X-WR-TIMEZONE:Europe/Vienna
BEGIN:VEVENT
SUMMARY:BAULANDMOBILISIERUNG UND LEERSTANDSAKTIVIERUNG
DTSTART;TZID=Europe/Vienna;VALUE=DATE-TIME:20260528T130000
DTEND;TZID=Europe/Vienna;VALUE=DATE-TIME:20260528T160000
DTSTAMP;VALUE=DATE-TIME:20260425T182049Z
UID:b3deaf8e52f14d96b2bf76b0de6fa531@aaf-live-raw.web.kup.tirol
CATEGORIES:AT26,Architekturfestival,Architektur Haus Kärnten,Raumordnung
CONTACT:Amt der Kärntner Landesregierung\nAbteilung 7 Fachliche Raumordnu
 ng\nMießtalerstraße 1\nA-9020 Klagenfurt a. W.\nE-Mail: abt7.post@ktn.gv
 .at\nWeb: https://www.ktn.gv.at
CREATED;VALUE=DATE-TIME:20260423T151318Z
DESCRIPTION:Ortskerne ohne Menschen. Raum ohne Nutzung. Verlorene Lebensqu
 alität. Ein Anlass für uns alle\, über dieses Thema zu sprechen - wo ge
 ht das besser\, als in einem zentral gelegenem Leerstand? Kommen Sie uns i
 m Rainerhof besuchen und sprechen wir über »Baulandmobilisierung und Lee
 rstandsaktivierung«. Wir diskutieren Auswirkungen\, zeigen Lösungswege a
 uf und stellen Best-Practice-Beispiele aus Kärnten vor. Dazu sind um 14.0
 0 Uhr und um 15.00 Uhr Impulsvorträge geplant\, nähere Details folgen.
GEO:46.6243107;14.3080598
LAST-MODIFIED;VALUE=DATE-TIME:20260424T061014Z
LOCATION;ALTREP="https://architektur-kaernten.at/lib/adressbuch/rainerhof"
 :RAINERHOF (im Erdgeschoß)\, Neuer Platz 6\, A-9020 Klagenfurt\, Österre
 ich
URL:https://architektur-kaernten.at/programm/kalender/baulandmobilisierung
 -und-leerstandsaktivierung
END:VEVENT
BEGIN:VTIMEZONE
TZID:Europe/Vienna
X-LIC-LOCATION:Europe/Vienna
BEGIN:DAYLIGHT
DTSTART;VALUE=DATE-TIME:20260329T030000
TZNAME:CEST
TZOFFSETFROM:+0100
TZOFFSETTO:+0200
END:DAYLIGHT
END:VTIMEZONE
END:VCALENDAR
